BEGIN:VCALENDAR
VERSION:2.0
PRODID:-//reallifenb.church//EN
CALSCALE:GREGORIAN
METHOD:PUBLISH
BEGIN:VEVENT
UID:3489@reallifenb.church
DTSTAMP:20260421T093019Z
DTSTART;TZID=+00:00:20260421T090000
DTEND;TZID=+00:00:20260421T150000
SUMMARY:RealLife Women&#8217\;s Conference
DESCRIPTION:Join us for the 2026 RealLife Women’s Conference on Saturday\, ️November 7\, 2026!\n\nGuest speakers and details to be announced!\n\nCost at the door: $50 | Students: $30\n\nDon’t wait. Grab a friend\, register today\, and let’s break ground together!  \n\n**50% off PRICING** \n\n$50 $25 Registration \n$30  $15 Students (6th grade & up) 
URL:https://reallifenb.church/event/reallife-womens-conference/
END:VEVENT
END:VCALENDAR
